BEGIN:VCALENDAR
VERSION:2.0
PRODID:-//Plone.org//NONSGML plone.app.event//EN
X-WR-TIMEZONE:Brazil/West
BEGIN:VEVENT
SUMMARY:1º Encontro Mato-grossense sobre Violência Política de Gênero.
DTSTART;TZID=Brazil/East;VALUE=DATE-TIME:20231124T190000
DTEND;TZID=Brazil/East;VALUE=DATE-TIME:20231124T220000
DTSTAMP;VALUE=DATE-TIME:20260421T040050Z
UID:63a1dc696e2d43e181dea8baccc58616@www.caceres.mt.leg.br
CREATED;VALUE=DATE-TIME:20231123T160844Z
DESCRIPTION:Pedido pelo 1doc ofício n° 5.704/2023 gabinete Cézare Pasto
 rello.
LAST-MODIFIED;VALUE=DATE-TIME:20231123T160918Z
LOCATION:Câmara Municipal de Cáceres
URL:https://www.caceres.mt.leg.br/institucional/eventos/1o-encontro-mato-g
 rossense-sobre-violencia-politica-de-genero
END:VEVENT
BEGIN:VTIMEZONE
TZID:Brazil/East
X-LIC-LOCATION:Brazil/East
BEGIN:DAYLIGHT
DTSTART;VALUE=DATE-TIME:20231015T010000
TZNAME:BRST
TZOFFSETFROM:-0300
TZOFFSETTO:-0200
END:DAYLIGHT
END:VTIMEZONE
END:VCALENDAR
