BEGIN:VCALENDAR
VERSION:2.0
PRODID:-//Plone.org//NONSGML plone.app.event//EN
X-WR-TIMEZONE:Brazil/West
BEGIN:VEVENT
SUMMARY:1º Encontro Mato-grossense sobre Violência Política de Gênero 
 ( UNEMAT)
DTSTART;TZID=Brazil/East;VALUE=DATE-TIME:20231207T190000
DTEND;TZID=Brazil/East;VALUE=DATE-TIME:20231207T220000
DTSTAMP;VALUE=DATE-TIME:20260425T201253Z
UID:de4e79ba4d5f4ddc8d22690c59c8827a@www.caceres.mt.leg.br
CREATED;VALUE=DATE-TIME:20231123T165620Z
DESCRIPTION:Pedido pelo 1doc nº 5.704/2023 gabinete vereador Cézare Past
 orello.
LAST-MODIFIED;VALUE=DATE-TIME:20231123T165630Z
LOCATION:Câmara Municipal de Cáceres
URL:https://www.caceres.mt.leg.br/institucional/eventos/1o-encontro-mato-g
 rossense-sobre-violencia-politica-de-genero-unemat
END:VEVENT
BEGIN:VTIMEZONE
TZID:Brazil/East
X-LIC-LOCATION:Brazil/East
BEGIN:DAYLIGHT
DTSTART;VALUE=DATE-TIME:20231015T010000
TZNAME:BRST
TZOFFSETFROM:-0300
TZOFFSETTO:-0200
END:DAYLIGHT
END:VTIMEZONE
END:VCALENDAR
