BEGIN:VCALENDAR
VERSION:2.0
PRODID:-//Plone.org//NONSGML plone.app.event//EN
X-WR-TIMEZONE:Brazil/West
BEGIN:VEVENT
SUMMARY:1ª Extraordinária da 1ª Sessão Legislativa da 20ª Legislatura
DTSTART;TZID=Brazil/West;VALUE=DATE-TIME:20250203T080000
DTEND;TZID=Brazil/West;VALUE=DATE-TIME:20250203T110000
DTSTAMP;VALUE=DATE-TIME:20260419T195427Z
UID:039a41cde3854111909c305e1671dcfb@www.caceres.mt.leg.br
CREATED;VALUE=DATE-TIME:20250130T151131Z
DESCRIPTION:PROJETO DE RESOLUÇÃO N.º 01\, DE 01 DE JANEIRO DE 2025
LAST-MODIFIED;VALUE=DATE-TIME:20250131T124247Z
URL:https://www.caceres.mt.leg.br/institucional/eventos/1a-extraordinaria-
 da-1a-sessao-legislativa-da-20a-legislatura
END:VEVENT
BEGIN:VTIMEZONE
TZID:Brazil/West
X-LIC-LOCATION:Brazil/West
BEGIN:STANDARD
DTSTART;VALUE=DATE-TIME:19940219T230000
TZNAME:AMT
TZOFFSETFROM:-0300
TZOFFSETTO:-0400
END:STANDARD
END:VTIMEZONE
END:VCALENDAR
