BEGIN:VCALENDAR
VERSION:2.0
PRODID:-//Plone.org//NONSGML plone.app.event//EN
X-WR-TIMEZONE:Brazil/West
BEGIN:VEVENT
SUMMARY:168ª Sessão Extraordinária da 4ª Sessão Legislativa da 19ª L
 egislatura.
DTSTART;TZID=Brazil/East;VALUE=DATE-TIME:20240426T080000
DTEND;TZID=Brazil/East;VALUE=DATE-TIME:20240426T110000
DTSTAMP;VALUE=DATE-TIME:20260420T193953Z
UID:5001d49455b64699bbbee3d287dae171@www.caceres.mt.leg.br
CREATED;VALUE=DATE-TIME:20240423T152000Z
LAST-MODIFIED;VALUE=DATE-TIME:20240423T152006Z
LOCATION:Câmara Municipal de Cáceres
URL:https://www.caceres.mt.leg.br/institucional/eventos/168a-sessao-extrao
 rdinaria-da-4a-sessao-legislativa-da-19a-legislatura
END:VEVENT
BEGIN:VTIMEZONE
TZID:Brazil/East
X-LIC-LOCATION:Brazil/East
BEGIN:STANDARD
DTSTART;VALUE=DATE-TIME:20240217T230000
TZNAME:BRT
TZOFFSETFROM:-0200
TZOFFSETTO:-0300
END:STANDARD
END:VTIMEZONE
END:VCALENDAR
