BEGIN:VCALENDAR
VERSION:2.0
PRODID:-//Plone.org//NONSGML plone.app.event//EN
X-WR-TIMEZONE:Brazil/West
BEGIN:VEVENT
SUMMARY:167ª Sessão Extraordinária da 4ª Sessão Legislativa da 19ª L
 egislatura.
DTSTART;TZID=Brazil/East;VALUE=DATE-TIME:20240403T110000
DTEND;TZID=Brazil/East;VALUE=DATE-TIME:20240403T113000
DTSTAMP;VALUE=DATE-TIME:20260419T224432Z
UID:aa2de9a3715746668a0b21a56922f9a9@www.caceres.mt.leg.br
CREATED;VALUE=DATE-TIME:20240403T154742Z
LAST-MODIFIED;VALUE=DATE-TIME:20240403T154749Z
LOCATION:Câmara Municipal de Cáceres
URL:https://www.caceres.mt.leg.br/institucional/eventos/167a-sessao-extrao
 rdinaria-da-4a-sessao-legislativa-da-19a-legislatura
END:VEVENT
BEGIN:VTIMEZONE
TZID:Brazil/East
X-LIC-LOCATION:Brazil/East
BEGIN:STANDARD
DTSTART;VALUE=DATE-TIME:20240217T230000
TZNAME:BRT
TZOFFSETFROM:-0200
TZOFFSETTO:-0300
END:STANDARD
END:VTIMEZONE
END:VCALENDAR
