BEGIN:VCALENDAR
VERSION:2.0
PRODID:-//Plone.org//NONSGML plone.app.event//EN
X-WR-TIMEZONE:Brazil/West
BEGIN:VEVENT
SUMMARY:161ª Sessão Extraordinária da 4ª Sessão Legislativa da 19ª L
 egislatura.
DTSTART;TZID=Brazil/East;VALUE=DATE-TIME:20240119T122000
DTEND;TZID=Brazil/East;VALUE=DATE-TIME:20240119T124000
DTSTAMP;VALUE=DATE-TIME:20260424T160903Z
UID:6a78d40a316f4cbfb131f15f48d4d41d@www.caceres.mt.leg.br
CREATED;VALUE=DATE-TIME:20240122T123514Z
LAST-MODIFIED;VALUE=DATE-TIME:20240401T193921Z
LOCATION:Câmara Municipal de Cáceres
URL:https://www.caceres.mt.leg.br/institucional/eventos/161a-sessao-extrao
 rdinaria-da-3a-sessao-legislativa-da-19a-legislatura
END:VEVENT
BEGIN:VTIMEZONE
TZID:Brazil/East
X-LIC-LOCATION:Brazil/East
BEGIN:DAYLIGHT
DTSTART;VALUE=DATE-TIME:20231015T010000
TZNAME:BRST
TZOFFSETFROM:-0300
TZOFFSETTO:-0200
END:DAYLIGHT
END:VTIMEZONE
END:VCALENDAR
