BEGIN:VCALENDAR
VERSION:2.0
PRODID:-//Plone.org//NONSGML plone.app.event//EN
X-WR-TIMEZONE:Brazil/West
BEGIN:VEVENT
SUMMARY:151ª Sessão Ordinária da 4ª Sessão Legislativa da 19ª Legisl
 atura.
DTSTART;TZID=Brazil/West;VALUE=DATE-TIME:20240610T080000
DTEND;TZID=Brazil/West;VALUE=DATE-TIME:20240610T120000
DTSTAMP;VALUE=DATE-TIME:20260419T224445Z
UID:03c83df724aa47878be407f3bda2402c@www.caceres.mt.leg.br
CREATED;VALUE=DATE-TIME:20240624T163012Z
LAST-MODIFIED;VALUE=DATE-TIME:20240624T163020Z
LOCATION:Câmara Municipal de Cáceres
URL:https://www.caceres.mt.leg.br/institucional/eventos/151a-sessao-ordina
 ria-da-4a-sessao-legislativa-da-19a-legislatura
END:VEVENT
BEGIN:VTIMEZONE
TZID:Brazil/West
X-LIC-LOCATION:Brazil/West
BEGIN:STANDARD
DTSTART;VALUE=DATE-TIME:19940219T230000
TZNAME:AMT
TZOFFSETFROM:-0300
TZOFFSETTO:-0400
END:STANDARD
END:VTIMEZONE
END:VCALENDAR
