BEGIN:VCALENDAR
VERSION:2.0
PRODID:-//Plone.org//NONSGML plone.app.event//EN
X-WR-TIMEZONE:Brazil/West
BEGIN:VEVENT
SUMMARY:144ª Sessão Ordinária da 4ª Sessão Legislativa da 19ª Legisl
 atura.
DTSTART;TZID=Brazil/East;VALUE=DATE-TIME:20240422T080000
DTEND;TZID=Brazil/East;VALUE=DATE-TIME:20240422T120000
DTSTAMP;VALUE=DATE-TIME:20260420T193955Z
UID:4ab050ac5ddc4600b2dcc0a621950fc4@www.caceres.mt.leg.br
CREATED;VALUE=DATE-TIME:20240419T140126Z
LAST-MODIFIED;VALUE=DATE-TIME:20240419T140330Z
LOCATION:Câmara Municipal de Cáceres
URL:https://www.caceres.mt.leg.br/institucional/eventos/144a-sessao-ordina
 ria-da-4a-sessao-legislativa-da-19a-legislatura
END:VEVENT
BEGIN:VTIMEZONE
TZID:Brazil/East
X-LIC-LOCATION:Brazil/East
BEGIN:STANDARD
DTSTART;VALUE=DATE-TIME:20240217T230000
TZNAME:BRT
TZOFFSETFROM:-0200
TZOFFSETTO:-0300
END:STANDARD
END:VTIMEZONE
END:VCALENDAR
