BEGIN:VCALENDAR
VERSION:2.0
PRODID:-//Plone.org//NONSGML plone.app.event//EN
X-WR-TIMEZONE:Brazil/West
BEGIN:VEVENT
SUMMARY:142ª Sessão Ordinária da 4ª Sessão Legislativa da 19ª Legisl
 atura.
DTSTART;TZID=Brazil/East;VALUE=DATE-TIME:20240408T080000
DTEND;TZID=Brazil/East;VALUE=DATE-TIME:20240408T120000
DTSTAMP;VALUE=DATE-TIME:20260420T194004Z
UID:b0872478182e46d98ec021e708bf610c@www.caceres.mt.leg.br
CREATED;VALUE=DATE-TIME:20240409T132632Z
LAST-MODIFIED;VALUE=DATE-TIME:20240409T132757Z
LOCATION:Câmara Municipal de Cáceres
URL:https://www.caceres.mt.leg.br/institucional/eventos/142a-sessao-ordina
 ria-da-4a-legislativa-da-3a-legislatura
END:VEVENT
BEGIN:VTIMEZONE
TZID:Brazil/East
X-LIC-LOCATION:Brazil/East
BEGIN:STANDARD
DTSTART;VALUE=DATE-TIME:20240217T230000
TZNAME:BRT
TZOFFSETFROM:-0200
TZOFFSETTO:-0300
END:STANDARD
END:VTIMEZONE
END:VCALENDAR
