BEGIN:VCALENDAR
VERSION:2.0
PRODID:-//Plone.org//NONSGML plone.app.event//EN
X-WR-TIMEZONE:Brazil/West
BEGIN:VEVENT
SUMMARY:141ª Sessão Extraordinária da 3ª Sessão Legislativa da 19ª L
 egislatura.
DTSTART;TZID=Brazil/East;VALUE=DATE-TIME:20231220T080000
DTEND;TZID=Brazil/East;VALUE=DATE-TIME:20231220T082000
DTSTAMP;VALUE=DATE-TIME:20260423T092404Z
UID:45f571a303c041c494ab4a449e14a89b@www.caceres.mt.leg.br
CREATED;VALUE=DATE-TIME:20240118T153424Z
LAST-MODIFIED;VALUE=DATE-TIME:20240118T153429Z
LOCATION:Câmara Municipal de Cáceres
URL:https://www.caceres.mt.leg.br/institucional/eventos/141a-sessao-extrao
 rdinaria-da-3a-sessao-legislativa-da-19a-legislatura
END:VEVENT
BEGIN:VTIMEZONE
TZID:Brazil/East
X-LIC-LOCATION:Brazil/East
BEGIN:DAYLIGHT
DTSTART;VALUE=DATE-TIME:20231015T010000
TZNAME:BRST
TZOFFSETFROM:-0300
TZOFFSETTO:-0200
END:DAYLIGHT
END:VTIMEZONE
END:VCALENDAR
