BEGIN:VCALENDAR
VERSION:2.0
PRODID:-//Plone.org//NONSGML plone.app.event//EN
X-WR-TIMEZONE:Brazil/West
BEGIN:VEVENT
SUMMARY:138ª Sessão Ordinária da 4ª Sessão Legislativa da 19ª Legisl
 atura
DTSTART;TZID=Brazil/East;VALUE=DATE-TIME:20240311T080000
DTEND;TZID=Brazil/East;VALUE=DATE-TIME:20240311T123400
DTSTAMP;VALUE=DATE-TIME:20260421T040049Z
UID:0d41a77cdb124cf29d9c3f69244c6489@www.caceres.mt.leg.br
CREATED;VALUE=DATE-TIME:20240401T191022Z
LAST-MODIFIED;VALUE=DATE-TIME:20240409T133702Z
LOCATION:Câmara Municipal de Cáceres
URL:https://www.caceres.mt.leg.br/institucional/eventos/138a-sessao-ordina
 ria-da-3a-sessao-legislativa-da-19a-legislativa
END:VEVENT
BEGIN:VTIMEZONE
TZID:Brazil/East
X-LIC-LOCATION:Brazil/East
BEGIN:STANDARD
DTSTART;VALUE=DATE-TIME:20240217T230000
TZNAME:BRT
TZOFFSETFROM:-0200
TZOFFSETTO:-0300
END:STANDARD
END:VTIMEZONE
END:VCALENDAR
