BEGIN:VCALENDAR
VERSION:2.0
PRODID:-//Plone.org//NONSGML plone.app.event//EN
X-WR-TIMEZONE:Brazil/West
BEGIN:VEVENT
SUMMARY:135ª Sessão Ordinária da 4ª Sessão Legislativa da 19ª Legisl
 atura
DTSTART;TZID=Brazil/East;VALUE=DATE-TIME:20240219T080000
DTEND;TZID=Brazil/East;VALUE=DATE-TIME:20240219T120000
DTSTAMP;VALUE=DATE-TIME:20260421T124030Z
UID:c2600b20e3fd4f25aae60ec6056ef56a@www.caceres.mt.leg.br
CREATED;VALUE=DATE-TIME:20240220T124022Z
LAST-MODIFIED;VALUE=DATE-TIME:20240409T134043Z
LOCATION:Câmara Municipal de Cáceres
URL:https://www.caceres.mt.leg.br/institucional/eventos/135a-sessao-ordina
 ria-da-3a-sessao-legislativa-da-19a-legislativa
END:VEVENT
BEGIN:VTIMEZONE
TZID:Brazil/East
X-LIC-LOCATION:Brazil/East
BEGIN:STANDARD
DTSTART;VALUE=DATE-TIME:20240217T230000
TZNAME:BRT
TZOFFSETFROM:-0200
TZOFFSETTO:-0300
END:STANDARD
END:VTIMEZONE
END:VCALENDAR
