BEGIN:VCALENDAR
VERSION:2.0
PRODID:-//Plone.org//NONSGML plone.app.event//EN
X-WR-TIMEZONE:Brazil/West
BEGIN:VEVENT
SUMMARY:Reunião com Membros do Conselho Tutelar de Cáceres e da Escola d
 o Legislativo
DTSTART;TZID=Brazil/West;VALUE=DATE-TIME:20240425T080000
DTEND;TZID=Brazil/West;VALUE=DATE-TIME:20240425T085000
DTSTAMP;VALUE=DATE-TIME:20260420T193954Z
UID:456d4f057a244bc0936c979f791399b7@www.caceres.mt.leg.br
ATTENDEE;CN="Luiz Laudo Paz Landim, Viviane Kelly Castro Santos Silva, Iza
 bel Santos Batista da Silva, Claudionor Caetano, Henrique Barcelos Moraes 
 e José Marcelo.";ROLE=REQ-PARTICIPANT:Luiz Laudo Paz Landim, Viviane Kell
 y Castro Santos Silva, Izabel Santos Batista da Silva, Claudionor Caetano,
  Henrique Barcelos Moraes e José Marcelo.
CREATED;VALUE=DATE-TIME:20240425T123903Z
LAST-MODIFIED;VALUE=DATE-TIME:20240425T152921Z
LOCATION:Câmara Municipal de Cáceres
URL:https://www.caceres.mt.leg.br/institucional/agenda-do-presidente/reuni
 ao-com-membros-do-conselho-tutelar-de-caceres-e-da-escola-do-legislativo
END:VEVENT
BEGIN:VTIMEZONE
TZID:Brazil/West
X-LIC-LOCATION:Brazil/West
BEGIN:STANDARD
DTSTART;VALUE=DATE-TIME:19940219T230000
TZNAME:AMT
TZOFFSETFROM:-0300
TZOFFSETTO:-0400
END:STANDARD
END:VTIMEZONE
END:VCALENDAR
